BEGIN:VCALENDAR
VERSION:2.0
PRODID:-//The Victorian 1868 - ECPv6.15.20//NONSGML v1.0//EN
CALSCALE:GREGORIAN
METHOD:PUBLISH
X-WR-CALNAME:The Victorian 1868
X-ORIGINAL-URL:https://thevictorian1868.com
X-WR-CALDESC:Events for The Victorian 1868
REFRESH-INTERVAL;VALUE=DURATION:PT1H
X-Robots-Tag:noindex
X-PUBLISHED-TTL:PT1H
BEGIN:VTIMEZONE
TZID:America/New_York
BEGIN:DAYLIGHT
TZOFFSETFROM:-0500
TZOFFSETTO:-0400
TZNAME:EDT
DTSTART:20240310T070000
END:DAYLIGHT
BEGIN:STANDARD
TZOFFSETFROM:-0400
TZOFFSETTO:-0500
TZNAME:EST
DTSTART:20241103T060000
END:STANDARD
BEGIN:DAYLIGHT
TZOFFSETFROM:-0500
TZOFFSETTO:-0400
TZNAME:EDT
DTSTART:20250309T070000
END:DAYLIGHT
BEGIN:STANDARD
TZOFFSETFROM:-0400
TZOFFSETTO:-0500
TZNAME:EST
DTSTART:20251102T060000
END:STANDARD
BEGIN:DAYLIGHT
TZOFFSETFROM:-0500
TZOFFSETTO:-0400
TZNAME:EDT
DTSTART:20260308T070000
END:DAYLIGHT
BEGIN:STANDARD
TZOFFSETFROM:-0400
TZOFFSETTO:-0500
TZNAME:EST
DTSTART:20261101T060000
END:STANDARD
END:VTIMEZONE
BEGIN:VEVENT
DTSTART;TZID=America/New_York:20250410T120000
DTEND;TZID=America/New_York:20250410T150000
DTSTAMP:20260423T060751
CREATED:20250323T193915Z
LAST-MODIFIED:20250323T193915Z
UID:1082-1744286400-1744297200@thevictorian1868.com
SUMMARY:Fusion Mineral Paint Workshop 101 - Afternoon
DESCRIPTION:In this workshop we will briefly tour the shop and view samples of painted furniture pieces\, get a cup of coffee\, tea or wine…& then proceed to our workshop room to watch Fusion Mineral Paint Founder Jennylyn Pringle demonstrate:\n*How to Prep your Furniture\n*How to Apply Fusion Mineral Paint\n*How to Choose a Top Coat\n*How to Choose a Brush for your Project &\n*How to Wet Distress your Piece \nUpon completion of the video we will create a seasonal craft for your home\, applying the techniques learned using Fusion Mineral Paints and decorative accessories! \nYou will go home with a FMP informational packet that includes everything you learned today!\nPlease enjoy complimentary coffee\, tea & snacks while watching the video!\nFeel free to BYOB (must be 21) and don’t forget your painting clothes!\nCost of Workshop – $35.00 – Registration Required **Please call the studio at 603-714-0513 to register! \n(All supplies provided) \n“Step back in time\, have a glass of wine & get your artsy on!”
URL:https://thevictorian1868.com/event/fusion-mineral-paint-workshop-101-afternoon-2/
LOCATION:The Victorian\, 1500 North Main St\, Palmer\, MA\, 01069\, United States
CATEGORIES:Workshop
ATTACH;FMTTYPE=image/jpeg:https://thevictorian1868.com/wp-content/uploads/2024/11/001-Fusion_Mineral_Paint_Rose_Water_Flatlay_Full_HR_210527_1165-Edit21.jpg
END:VEVENT
BEGIN:VEVENT
DTSTART;TZID=America/New_York:20250410T180000
DTEND;TZID=America/New_York:20250410T200000
DTSTAMP:20260423T060751
CREATED:20250323T195733Z
LAST-MODIFIED:20250323T195823Z
UID:1085-1744308000-1744315200@thevictorian1868.com
SUMMARY:Fusion Mineral Paint Workshop 101 - Evening - Minimum class size of four students.
DESCRIPTION:In this workshop we will briefly tour the shop and view samples of painted furniture pieces\, get a cup of coffee\, tea or wine…& then proceed to our workshop room to watch Fusion Mineral Paint Founder Jennylyn Pringle demonstrate:\n*How to Prep your Furniture\n*How to Apply Fusion Mineral Paint\n*How to Choose a Top Coat\n*How to Choose a Brush for your Project &\n*How to Wet Distress your Piece \nUpon completion of the video we will create a seasonal craft for your home\, applying the techniques learned using Fusion Mineral Paints and decorative accessories! \nYou will go home with a FMP informational packet that includes everything you learned today!\nPlease enjoy complimentary coffee\, tea & snacks while watching the video!\nFeel free to BYOB (must be 21) and don’t forget your painting clothes!\nCost of Workshop – $35.00 – Registration Required **Please call the studio at 603-714-0513 to register! \n(All supplies provided) \n“Step back in time\, have a glass of wine & get your artsy on!”
URL:https://thevictorian1868.com/event/fusion-mineral-paint-workshop-101-2/
LOCATION:The Victorian\, 1500 North Main St\, Palmer\, MA\, 01069\, United States
CATEGORIES:Workshop
ATTACH;FMTTYPE=image/jpeg:https://thevictorian1868.com/wp-content/uploads/2024/11/016-Fusion_Mineral_Paint_Rose_Water_Vanity__HR_210521_1106-Edit2.jpg
END:VEVENT
END:VCALENDAR