BEGIN:VCALENDAR
VERSION:2.0
PRODID:-//The Victorian 1868 - ECPv6.15.20//NONSGML v1.0//EN
CALSCALE:GREGORIAN
METHOD:PUBLISH
X-ORIGINAL-URL:https://thevictorian1868.com
X-WR-CALDESC:Events for The Victorian 1868
REFRESH-INTERVAL;VALUE=DURATION:PT1H
X-Robots-Tag:noindex
X-PUBLISHED-TTL:PT1H
BEGIN:VTIMEZONE
TZID:America/New_York
BEGIN:DAYLIGHT
TZOFFSETFROM:-0500
TZOFFSETTO:-0400
TZNAME:EDT
DTSTART:20240310T070000
END:DAYLIGHT
BEGIN:STANDARD
TZOFFSETFROM:-0400
TZOFFSETTO:-0500
TZNAME:EST
DTSTART:20241103T060000
END:STANDARD
BEGIN:DAYLIGHT
TZOFFSETFROM:-0500
TZOFFSETTO:-0400
TZNAME:EDT
DTSTART:20250309T070000
END:DAYLIGHT
BEGIN:STANDARD
TZOFFSETFROM:-0400
TZOFFSETTO:-0500
TZNAME:EST
DTSTART:20251102T060000
END:STANDARD
BEGIN:DAYLIGHT
TZOFFSETFROM:-0500
TZOFFSETTO:-0400
TZNAME:EDT
DTSTART:20260308T070000
END:DAYLIGHT
BEGIN:STANDARD
TZOFFSETFROM:-0400
TZOFFSETTO:-0500
TZNAME:EST
DTSTART:20261101T060000
END:STANDARD
END:VTIMEZONE
BEGIN:VEVENT
DTSTART;TZID=America/New_York:20250404T170000
DTEND;TZID=America/New_York:20250404T180000
DTSTAMP:20260423T061058
CREATED:20250323T201201Z
LAST-MODIFIED:20250323T201202Z
UID:1088-1743786000-1743789600@thevictorian1868.com
SUMMARY:Women & Wine Fridays at Five!
DESCRIPTION:Come join us every other Friday for a relaxing end of the week glass of wine and appetizers\, in our “Newport Room”\, also known as our “Workshop Room”\, for some artsy inspiration! Flip through décor and design books\, as well as\, view Fusion Mineral Paint’s Facebook Page\, on our large monitor\, and see amazing pieces that have been transformed with Fusion’s awesome products! \nEnjoy a complimentary glass of wine and appetizers…\n(Must be 21 years old – I.D. Required) \nNo pre-registration required! \nQuestions welcome! * Get your artsy on! * Enjoy!
URL:https://thevictorian1868.com/event/women-wine-fridays-at-five-2/
LOCATION:The Victorian\, 1500 North Main St\, Palmer\, MA\, 01069\, United States
CATEGORIES:social
ATTACH;FMTTYPE=image/jpeg:https://thevictorian1868.com/wp-content/uploads/2024/11/women-holding-glasses-of-red-wine-making-a-toast-2024-06-19-17-01-33-utc-min-scaled.jpg
END:VEVENT
END:VCALENDAR